BEGIN:VCALENDAR
VERSION:2.0
PRODID:-//wp-events-plugin.com//7.2.3.1//EN
TZID:America/New_York
X-WR-TIMEZONE:America/New_York
BEGIN:VEVENT
UID:124@wellspringchurchnc.org
DTSTART;TZID=America/New_York:20260802T114500
DTEND;TZID=America/New_York:20260802T124500
DTSTAMP:20250410T174446Z
URL:https://wellspringchurchnc.org/events/upclose-guest-reception-2026-08-
 02/
SUMMARY:UpClose Guest Reception
DESCRIPTION:\n\nJoin us on the first Sunday of every month for our UpClose 
 Guest Reception. If you are checking out Wellspring Church\, this is the p
 erfect opportunities for you to meet the leaders of Wellspring\, learn abo
 ut our heart as a church\, and have any of your questions answered.\n\n
ATTACH;FMTTYPE=image/jpeg:https://wellspringchurchnc.org/wp-content/upload
 s/2024/05/Wellspring-Up-Close.jpg
END:VEVENT
BEGIN:VTIMEZONE
TZID:America/New_York
X-LIC-LOCATION:America/New_York
BEGIN:DAYLIGHT
DTSTART:20260308T030000
TZOFFSETFROM:-0500
TZOFFSETTO:-0400
TZNAME:EDT
END:DAYLIGHT
END:VTIMEZONE
END:VCALENDAR